BEGIN:VCALENDAR
VERSION:2.0
PRODID:-//192.185.154.123//NONSGML kigkonsult.se iCalcreator 2.26.9//
CALSCALE:GREGORIAN
METHOD:PUBLISH
X-WR-CALNAME:Cooroy Heart of the Hinterland
X-WR-CALDESC:Cooroy Heart of the Hinterland
X-FROM-URL:https://cooroy.com.au
X-WR-TIMEZONE:Australia/Brisbane
BEGIN:VTIMEZONE
TZID:Australia/Brisbane
X-LIC-LOCATION:Australia/Brisbane
BEGIN:STANDARD
DTSTART:19920301T030000
TZOFFSETFROM:+1100
TZOFFSETTO:+1000
TZNAME:AEST
END:STANDARD
END:VTIMEZONE
BEGIN:VEVENT
UID:ai1ec-5688@cooroy.com.au
DTSTAMP:20200301T071009Z
CATEGORIES;LANGUAGE=en-US:Entertainment\,Family\,Kids
CONTACT:07 5329 6555\; www.noosa.qld.gov.au
DESCRIPTION:<p>Early literacy program. Babies love the sound of your voice.
  Rhymes and songs are great for growing baby brains! Join us for 30 minute
 s of songs\, rhymes and finger plays. Learn those old traditional songs\, 
 and some new ones too. Share rhymes\, songs and books with your baby . Enj
 oy the company of a friendly and relaxing group. During school term.<br />
 \nFree. Bookings preferred. </p>
DTSTART;TZID=Australia/Brisbane:20191107T100000
DTEND;TZID=Australia/Brisbane:20191107T103000
LOCATION:COOROY LIBRARY
RRULE:FREQ=WEEKLY
SEQUENCE:0
SUMMARY:Babes in Arms – F5F
URL:https://cooroy.com.au/event/babes-in-arms-f5f/
X-COST-TYPE:free
END:VEVENT
END:VCALENDAR
